BEGIN:VCALENDAR
VERSION:2.0
PRODID:-//Tukios.com/
BEGIN:VEVENT
UID:846144ac-6526-4b7a-9a2d-b5e33ce2541f@www.dejohnfuneral.com
DTSTAMP:20260424T010423Z
DTSTART:20260428T140000Z
DTEND:20260428T150000Z
SUMMARY:Mass
DESCRIPTION:
URL:https://www.dejohnfuneral.com/obituaries/bob-cicek
LOCATION:St. Francis of Assisi Catholic Church 6850 Mayfield Road  Gates 
	Mills OH 44040
GEO:41.5188861;-81.4310214
END:VEVENT
END:VCALENDAR