BEGIN:VCALENDAR
VERSION:2.0
PRODID:-//Tukios.com/
BEGIN:VEVENT
UID:00db0980-7f53-4f2f-b638-31835893dfea@www.dejohnfuneral.com
DTSTAMP:20260424T010423Z
DTSTART:20260427T200000Z
DTEND:20260428T000000Z
SUMMARY:Visitation
DESCRIPTION:
URL:https://www.dejohnfuneral.com/obituaries/bob-cicek
LOCATION: 28890 Chardon Rd  Willoughby Hills OH 44092
GEO:41.583888;-81.4714509
END:VEVENT
END:VCALENDAR