BEGIN:VCALENDAR
VERSION:2.0
PRODID:-//Tukios.com/
BEGIN:VEVENT
UID:a1b6ca2a-083f-4421-ba9d-ee8208f64c38@www.dejohnfuneral.com
DTSTAMP:20260420T235722Z
DTSTART:20260424T140000Z
DTEND:20260424T150000Z
SUMMARY:Mass of Christian Burial
DESCRIPTION:
URL:https://www.dejohnfuneral.com/obituaries/ellen-cooper
LOCATION:St. Dominic Catholic Church 19000 Van Aken Blvd  Shaker Heights 
	OH 44122
GEO:41.4661114;-81.5455199
END:VEVENT
END:VCALENDAR