BEGIN:VCALENDAR
VERSION:2.0
PRODID:-//Tukios.com/
BEGIN:VEVENT
UID:b2253a09-5d30-4398-b5bb-6e6168f3d7b3@www.dejohnfuneral.com
DTSTAMP:20260420T235951Z
DTSTART:20260423T180000Z
DTEND:20260423T230000Z
SUMMARY:Visitation
DESCRIPTION:
URL:https://www.dejohnfuneral.com/obituaries/ellen-cooper
LOCATION:DeJohn-Flynn-Mylott Funeral Home 4600 Mayfield Rd.  South Euclid 
	OH 44121
GEO:41.5194335;-81.5145959
END:VEVENT
END:VCALENDAR