BEGIN:VCALENDAR
VERSION:2.0
PRODID:-//Tukios.com/
BEGIN:VEVENT
UID:1985e687-a31d-4785-9e7b-f8426a9e1857@www.dejohnfuneral.com
DTSTAMP:20260420T235458Z
DTSTART:20260424
SUMMARY:Burial
DESCRIPTION:
URL:https://www.dejohnfuneral.com/obituaries/ellen-cooper
LOCATION: 480 W Highland Rd  Northfield OH 44067
GEO:41.2920428;-81.5359983
END:VEVENT
END:VCALENDAR