BEGIN:VCALENDAR
VERSION:2.0
PRODID:-//Tukios.com/
BEGIN:VEVENT
UID:ea831fab-f974-4305-92ee-358bf1a0714b@www.dejohnfuneral.com
DTSTAMP:20260420T015828Z
DTSTART:20260425T140000Z
DTEND:20260425T150000Z
SUMMARY:Mass
DESCRIPTION:
URL:https://www.dejohnfuneral.com/obituaries/joan-henschel-blake
LOCATION:St. John of the Cross Catholic Church 140 Richmond Road  Euclid 
	OH 44143
GEO:41.5845259;-81.5000675
END:VEVENT
END:VCALENDAR