BEGIN:VCALENDAR
VERSION:2.0
PRODID:-//Tukios.com/
BEGIN:VEVENT
UID:ea59848d-c210-46aa-b5a9-a99cb94316d5@www.dejohnfuneral.com
DTSTAMP:20260420T015741Z
DTSTART:20260425
SUMMARY:Burial
DESCRIPTION:
URL:https://www.dejohnfuneral.com/obituaries/joan-henschel-blake
LOCATION: 10366 Chardon Rd  Chardon OH 44024
GEO:41.587286;-81.270188
END:VEVENT
END:VCALENDAR