BEGIN:VCALENDAR
VERSION:2.0
PRODID:-//Tukios.com/
BEGIN:VEVENT
UID:028cd5e4-6754-4875-9099-90073629dfd3@www.dejohnfuneral.com
DTSTAMP:20260422T061043Z
DTSTART:20260502T160000Z
DTEND:20260502T170000Z
SUMMARY:Prayers of Christian Burial
DESCRIPTION:
URL:https://www.dejohnfuneral.com/obituaries/patricia-henigan
LOCATION:Mullally Funeral Home 28890 Chardon Rd.  Willoughby Hills OH 
	44092
GEO:41.583888;-81.4714509
END:VEVENT
END:VCALENDAR