BEGIN:VCALENDAR
VERSION:2.0
PRODID:-//Tukios.com/
BEGIN:VEVENT
UID:ad5c9011-ee9c-41bc-8daa-15ce0c00be38@www.dejohnfuneral.com
DTSTAMP:20260422T061258Z
DTSTART:20260502T150000Z
DTEND:20260502T160000Z
SUMMARY:Visitation
DESCRIPTION:
URL:https://www.dejohnfuneral.com/obituaries/patricia-henigan
LOCATION:Mullally Funeral Home 28890 Chardon Rd.  Willoughby Hills OH 
	44092
GEO:41.583888;-81.4714509
END:VEVENT
END:VCALENDAR