BEGIN:VCALENDAR
VERSION:2.0
PRODID:-//Tukios.com/
BEGIN:VEVENT
UID:a1f999df-3c02-4d37-bf8c-3bc62f7173ae@www.dejohnfuneral.com
DTSTAMP:20260421T175341Z
DTSTART:20260427T153000Z
DTEND:20260427T160000Z
SUMMARY:Graveside Service
DESCRIPTION:
URL:https://www.dejohnfuneral.com/obituaries/ralph-joseph
LOCATION:Knollwood Cemetery 1678 SOM Center Rd  Mayfield Heights OH 44124
GEO:41.5129855;-81.4430057
END:VEVENT
END:VCALENDAR