BEGIN:VCALENDAR
VERSION:2.0
PRODID:-//Tukios.com/
BEGIN:VEVENT
UID:900f8da2-c313-4860-a294-9c49a77565a8@www.dejohnfuneral.com
DTSTAMP:20260421T175812Z
DTSTART:20260427T140000Z
DTEND:20260427T150000Z
SUMMARY:Celebration of Life Service
DESCRIPTION:
URL:https://www.dejohnfuneral.com/obituaries/ralph-joseph
LOCATION:North Room 28890 Chardon Road  Willoughby Hills OH 44092
GEO:41.583888;-81.4714509
END:VEVENT
END:VCALENDAR