BEGIN:VCALENDAR
VERSION:2.0
PRODID:-//Tukios.com/
BEGIN:VEVENT
UID:e97b71fa-67da-41e4-9332-9be01e233d6a@www.dejohnfuneral.com
DTSTAMP:20260421T175624Z
DTSTART:20260426T180000Z
DTEND:20260426T220000Z
SUMMARY:Visitation
DESCRIPTION:
URL:https://www.dejohnfuneral.com/obituaries/ralph-joseph
LOCATION:North Room 28890 Chardon Road  Willoughby Hills OH 44092
GEO:41.583888;-81.4714509
END:VEVENT
END:VCALENDAR