BEGIN:VCALENDAR
VERSION:2.0
PRODID:-//Tukios.com/
BEGIN:VEVENT
UID:d946810c-66a1-4450-ad93-7ba7763fa092@www.dejohnfuneral.com
DTSTAMP:20260421T233524Z
DTSTART:20260429T150000Z
DTEND:20260429T160000Z
SUMMARY:Mass of Christian Burial
DESCRIPTION:
URL:https://www.dejohnfuneral.com/obituaries/rosemarie-rasch
LOCATION:St. Helen Catholic Church 12060 Kinsman Rd.  Newbury OH 44065
GEO:41.467479;-81.206863
END:VEVENT
END:VCALENDAR