BEGIN:VCALENDAR
VERSION:2.0
PRODID:-//Tukios.com/
BEGIN:VEVENT
UID:56da6461-92ca-442f-80bb-2b7a9dc1d8f6@www.dejohnfuneral.com
DTSTAMP:20260421T233805Z
DTSTART:20260429T140000Z
DTEND:20260430T030000Z
SUMMARY:Visitation
DESCRIPTION:
URL:https://www.dejohnfuneral.com/obituaries/rosemarie-rasch
LOCATION:St. Helen Catholic Church 12060 Kinsman Rd.  Newbury OH 44065
GEO:41.467479;-81.206863
END:VEVENT
END:VCALENDAR