BEGIN:VCALENDAR
VERSION:2.0
PRODID:-//Tukios.com/
BEGIN:VEVENT
UID:c57d1fef-a6e6-4f13-ac34-7c95018cda0f@www.dejohnfuneral.com
DTSTAMP:20260421T233408Z
DTSTART:20260501T164500Z
DTEND:20260501T171500Z
SUMMARY:Graveside Service
DESCRIPTION:
URL:https://www.dejohnfuneral.com/obituaries/rosemarie-rasch
LOCATION: 10366 Chardon Rd  Chardon OH 44024
GEO:41.5921147;-81.2677137
END:VEVENT
END:VCALENDAR