BEGIN:VCALENDAR
VERSION:2.0
PRODID:-//Tukios.com/
BEGIN:VEVENT
UID:41f32296-7980-46ab-907b-bf0918416345@www.dejohnfuneral.com
DTSTAMP:20260425T014728Z
DTSTART:20260517T170000Z
DTEND:20260517T210000Z
SUMMARY:Service
DESCRIPTION:
URL:https://www.dejohnfuneral.com/obituaries/william-eger
LOCATION:THE DeJOHN-FLYNN-MYLOTTh FUNERAL HOME OF WILLOUGHBY HILLS 
	COMMUNITY ROOM 28890 Chardon Road  Willoughby Hills OH 44092
GEO:41.583888;-81.4714509
END:VEVENT
END:VCALENDAR